BEGIN:VCALENDAR
VERSION:2.0
PRODID:-//Ahoy Amsterdam - ECPv6.15.17.1//NONSGML v1.0//EN
CALSCALE:GREGORIAN
METHOD:PUBLISH
X-WR-CALNAME:Ahoy Amsterdam
X-ORIGINAL-URL:http://www.ahoyamsterdam.nl
X-WR-CALDESC:Events for Ahoy Amsterdam
REFRESH-INTERVAL;VALUE=DURATION:PT1H
X-Robots-Tag:noindex
X-PUBLISHED-TTL:PT1H
BEGIN:VTIMEZONE
TZID:UTC
BEGIN:STANDARD
TZOFFSETFROM:+0000
TZOFFSETTO:+0000
TZNAME:UTC
DTSTART:20150101T000000
END:STANDARD
END:VTIMEZONE
BEGIN:VEVENT
DTSTART;TZID=UTC:20160911T090000
DTEND;TZID=UTC:20160911T200000
DTSTAMP:20260421T202335
CREATED:20160621T131329Z
LAST-MODIFIED:20160621T131533Z
UID:432-1473584400-1473624000@www.ahoyamsterdam.nl
SUMMARY:Amsterdam City Swim
DESCRIPTION:11 september 2016 is a new edition of Amsterdam City swim. Many swimmers dive into the water of the canals of Amsterdam all for a good cause A.L.S. If you like to join or click for more  info \nMusic along the course \nAt the Jonas Daniel Meyer Square is a DJ that will keep swimmers and public enjoying themselves and there  are also sporting beats on the dock for the Hermitage to give the swimmers a final boost to the finish. \nAt the finish line at the Keizersgracht our media partner Radio Veronica will produce live radio. \nFinish \nprogramm \n10:00  Start Amsterdam City Swim for Kids (Hermitage) \n11.15 start registration participants\, retrieve your material \n12.00 main opening Amsterdam City Swim 2016 \n13.00 start first swimmers \n13.05 start of different waves \n13.25 finish at Keizersgracht \n13.40 participants return to Marine Etablissement Amsterdam \n16.30 Finish \n17.00 Press moment/public announcement: handing out of the cheque \n20.00 End of event \n  \n  \nThe finish takes place on the Keizersgracht crossing Reguliersgracht. From the bridge Reguliersgracht you will have a limited view of the incoming swimmers in relation to the participants zone and the finish gantry. For the swimmers we organise a quick passage to the buses at the Vijzelstraat (which bring them to the start area again)\, to ensure the passage Reguliersgracht / Keizersgracht will be closed on the odd side. \nPublic that wants from the Herengracht to the Prinsengracht\, requested to walk around through the Utrechtsestraat. \nCruising Traffic \nThe entire route of the Amsterdam City Swim is completely sealed from boating traffic. It is also not possible to construct with a boat on the trail. This is in connection with the safety of the swimmers. Keizersgracht has been completely closed since Thursday\, September 8th for all the boating traffic associated with the construction of the finish construction.
URL:http://www.ahoyamsterdam.nl/event/amsterdam-city-swim/
END:VEVENT
END:VCALENDAR