BEGIN:VCALENDAR
VERSION:2.0
PRODID:-//Ahoy Amsterdam - ECPv6.15.17.1//NONSGML v1.0//EN
CALSCALE:GREGORIAN
METHOD:PUBLISH
X-WR-CALNAME:Ahoy Amsterdam
X-ORIGINAL-URL:http://www.ahoyamsterdam.nl
X-WR-CALDESC:Events for Ahoy Amsterdam
REFRESH-INTERVAL;VALUE=DURATION:PT1H
X-Robots-Tag:noindex
X-PUBLISHED-TTL:PT1H
BEGIN:VTIMEZONE
TZID:UTC
BEGIN:STANDARD
TZOFFSETFROM:+0000
TZOFFSETTO:+0000
TZNAME:UTC
DTSTART:20150101T000000
END:STANDARD
END:VTIMEZONE
BEGIN:VEVENT
DTSTART;TZID=UTC:20160709T150000
DTEND;TZID=UTC:20160709T230000
DTSTAMP:20260421T235457
CREATED:20160621T110318Z
LAST-MODIFIED:20160621T222624Z
UID:441-1468076400-1468105200@www.ahoyamsterdam.nl
SUMMARY:Cruise and dance (haarlem edition)
DESCRIPTION:Sun\, water\, beach\, nature\,  friends\, a boat parade and deep house. All the ingredients that make Cruise and Dance a great festival. Its the Haarlem edition lets hope a Amsterdam edition will be organised soon. Its a bit of a cruise to get there but thats part of the fun. Luckily the bridges on the way back operate till late! \n  \nDate:  9-7- 2016\nLocation: Molenplas\, Haarlem\nTime: 15.00 – 23:00 \nBoatparade location: Conradkade\nBoatparade collection: 13:00\nStart boatparade: 13:30 \nNo BOAT? no worries ! book a ticket for \nthe  Cruise and Dance DJ Boot! \ntickets \ninfo \nKan ik ’s avonds met de boot weer terug naar Amsterdam varen. Kom ik geen lage bruggen tegen?\nDirect na de Molenplas op de ringvaart richting Amsterdam gaat de Vijfhuizerbrug (1\,10 meter) extra open om 22:00 uur\, 22:30 uur\, 23:00 uur en de laatste om 23:30 uur. In Amsterdam 14 kilometer verderop gaat de Sloterbrug (0\,80 meter) extra open om 23:30 uur\, 00:00 uur\, 00:30 uur en de laatste om 01:00 uur. \nOok is er de mogelijkheid om je boot in de haven bij het festivalterrein te laten liggen. Bijvoorbeeld in het geval de schipper te veel gedronken heeft. Je kunt je boot dan uiterlijk 12:00 uur de volgende dag op komen halen.   
URL:http://www.ahoyamsterdam.nl/event/cruise-dance-haarlem-edition/
LOCATION:startlocatie cruise & dance Haarlem\, Conradkade\, Haarlem\, Netherlands
CATEGORIES:bereikbaar per boot
END:VEVENT
BEGIN:VEVENT
DTSTART;TZID=UTC:20160625T160000
DTEND;TZID=UTC:20160625T210000
DTSTAMP:20260421T235457
CREATED:20160622T125551Z
LAST-MODIFIED:20160624T132617Z
UID:265-1466870400-1466888400@www.ahoyamsterdam.nl
SUMMARY:SPIEGELCONCERT Amsterdam
DESCRIPTION:A concert performed on a floating stage in middle of the Keizersgracht (canal) in the picturesque Spiegelquarter(Spiegelkwartier). You can enjoy the concert from your own (rental)boat as well as the dock.\nYear after year the Spiegelconcert manage get to gather a great variety of young talented musicians ranging from classic to modern and everything in between. The Spiegelconcert is organized by Restaurant Pasta e Basta. Famous for their Italian food and singing waitresses who will also perform. \nSpiegelconcert Amsterdam \nImagine yourself spending the afternoon launching a boat on a canal enjoying live music from your boat or the key.\nIts a free concert\, so it easy to support it by tasting some of the very nice food and the drinks available\, provided Pasta e Basta is preparing. \nmore info \nbelow some footage of last year.  \n \n  \n\nwhat you ll also might like: \nprinsengrachtconcert
URL:http://www.ahoyamsterdam.nl/event/spiegelconcert/
LOCATION:Pasta e Basta (Spiegelgracht)\, Nieuwe Spiegelstraat 8 \, Amsterdam\, Netherlands
CATEGORIES:bereikbaar per boot,concert,concert op het water
END:VEVENT
END:VCALENDAR